BEGIN:VCALENDAR
VERSION:2.0
PRODID:-//eventon.com NONSGML v1.0//EN
CALSCALE:GREGORIAN
METHOD:PUBLISH
BEGIN:VEVENT
UID:69e9f741db8be
DTSTAMP:20260423T104105Z
DTSTART:20190323T153000Z
DTEND:20190323T193000Z
LOCATION:Salesianos de Manique 1\,  Manique de Baixo\,  R. Salesianos\,  2645-438 Alcabideche
SUMMARY:Torneio Master Solidário José Marreiros
DESCRIPTION:Torneio Master Solidário José Marreiros\nhttps://anlisboa.pt/
 events/torneio-master-solidario-jose-marreiros/
URL:https://anlisboa.pt/events/torneio-master-solidario-jose-marreiros/
END:VEVENT
END:VCALENDAR