BEGIN:VCALENDAR
VERSION:2.0
PRODID:-//eventon.com NONSGML v1.0//EN
CALSCALE:GREGORIAN
METHOD:PUBLISH
BEGIN:VEVENT
UID:69eb6654b7915
DTSTAMP:20260424T124716Z
DTSTART:20260509T090000Z
DTEND:20260510T200000Z
LOCATION:Vila Franca de Xira R. A 37\,  2600-219 Vila Franca de Xira
SUMMARY:Meeting Xira
DESCRIPTION:Meeting Xira\nhttps://anlisboa.pt/events/meeting-xira-26/
URL:https://anlisboa.pt/events/meeting-xira-26/
END:VEVENT
END:VCALENDAR